BEGIN:VCALENDAR
VERSION:2.0
PRODID:-//Who&#039;s On Third - ECPv6.15.17//NONSGML v1.0//EN
CALSCALE:GREGORIAN
METHOD:PUBLISH
X-WR-CALNAME:Who&#039;s On Third
X-ORIGINAL-URL:https://www.whosonthird.com
X-WR-CALDESC:Events for Who&#039;s On Third
REFRESH-INTERVAL;VALUE=DURATION:PT1H
X-Robots-Tag:noindex
X-PUBLISHED-TTL:PT1H
BEGIN:VTIMEZONE
TZID:UTC
BEGIN:STANDARD
TZOFFSETFROM:+0000
TZOFFSETTO:+0000
TZNAME:UTC
DTSTART:20220101T000000
END:STANDARD
END:VTIMEZONE
BEGIN:VEVENT
DTSTART;TZID=UTC:20230921T213000
DTEND;TZID=UTC:20230922T000000
DTSTAMP:20260420T151113
CREATED:20230801T201435Z
LAST-MODIFIED:20230801T201435Z
UID:167-1695331800-1695340800@www.whosonthird.com
SUMMARY:Karaoke w/ DJ Dougie
DESCRIPTION:DJ Dougie kicks off karaoke every Thursday at Who’s on Third at 9:30pm! Bring some friends\, grab a drink\, and sing some songs. Thursdays at Who’s are fun you don’t want to miss!
URL:https://www.whosonthird.com/event/karaoke-w-dj-dougie-8/
CATEGORIES:Karaoke
ATTACH;FMTTYPE=image/jpeg:https://www.whosonthird.com/wp-content/uploads/2023/08/IMG-7084-1-e1690870824968.jpg
END:VEVENT
BEGIN:VEVENT
DTSTART;TZID=UTC:20230914T213000
DTEND;TZID=UTC:20230915T000000
DTSTAMP:20260420T151113
CREATED:20230801T201334Z
LAST-MODIFIED:20230801T201334Z
UID:165-1694727000-1694736000@www.whosonthird.com
SUMMARY:Karaoke w/ DJ Dougie
DESCRIPTION:DJ Dougie kicks off karaoke every Thursday at Who’s on Third at 9:30pm! Bring some friends\, grab a drink\, and sing some songs. Thursdays at Who’s are fun you don’t want to miss!
URL:https://www.whosonthird.com/event/karaoke-w-dj-dougie-7/
CATEGORIES:Karaoke
ATTACH;FMTTYPE=image/jpeg:https://www.whosonthird.com/wp-content/uploads/2023/08/IMG-7084-1-e1690870824968.jpg
END:VEVENT
BEGIN:VEVENT
DTSTART;TZID=UTC:20230907T213000
DTEND;TZID=UTC:20230908T000000
DTSTAMP:20260420T151113
CREATED:20230801T201246Z
LAST-MODIFIED:20230801T201246Z
UID:163-1694122200-1694131200@www.whosonthird.com
SUMMARY:Karaoke w/ DJ Dougie
DESCRIPTION:DJ Dougie kicks off karaoke every Thursday at Who’s on Third at 9:30pm! Bring some friends\, grab a drink\, and sing some songs. Thursdays at Who’s are fun you don’t want to miss!
URL:https://www.whosonthird.com/event/karaoke-w-dj-dougie-6/
CATEGORIES:Karaoke
ATTACH;FMTTYPE=image/jpeg:https://www.whosonthird.com/wp-content/uploads/2023/08/IMG-7084-1-e1690870824968.jpg
END:VEVENT
BEGIN:VEVENT
DTSTART;TZID=UTC:20230831T213000
DTEND;TZID=UTC:20230901T000000
DTSTAMP:20260420T151113
CREATED:20230801T063028Z
LAST-MODIFIED:20230801T194905Z
UID:100-1693517400-1693526400@www.whosonthird.com
SUMMARY:Karaoke w/ DJ Dougie
DESCRIPTION:DJ Dougie kicks off karaoke every Thursday at Who’s on Third at 9:30pm! Bring some friends\, grab a drink\, and sing some songs. Thursdays at Who’s are fun you don’t want to miss!
URL:https://www.whosonthird.com/event/karaoke-w-dj-dougie-5/
CATEGORIES:Karaoke
ATTACH;FMTTYPE=image/jpeg:https://www.whosonthird.com/wp-content/uploads/2023/08/IMG-7084-1-e1690870824968.jpg
END:VEVENT
BEGIN:VEVENT
DTSTART;TZID=UTC:20230824T213000
DTEND;TZID=UTC:20230825T000000
DTSTAMP:20260420T151113
CREATED:20230801T062949Z
LAST-MODIFIED:20230801T194910Z
UID:98-1692912600-1692921600@www.whosonthird.com
SUMMARY:Karaoke w/ DJ Dougie
DESCRIPTION:DJ Dougie kicks off karaoke every Thursday at Who’s on Third at 9:30pm! Bring some friends\, grab a drink\, and sing some songs. Thursdays at Who’s are fun you don’t want to miss!
URL:https://www.whosonthird.com/event/karaoke-w-dj-dougie-4/
CATEGORIES:Karaoke
ATTACH;FMTTYPE=image/jpeg:https://www.whosonthird.com/wp-content/uploads/2023/08/IMG-7084-1-e1690870824968.jpg
END:VEVENT
BEGIN:VEVENT
DTSTART;TZID=UTC:20230817T213000
DTEND;TZID=UTC:20230818T000000
DTSTAMP:20260420T151113
CREATED:20230801T062907Z
LAST-MODIFIED:20230801T194915Z
UID:96-1692307800-1692316800@www.whosonthird.com
SUMMARY:Karaoke w/ DJ Dougie
DESCRIPTION:DJ Dougie kicks off karaoke every Thursday at Who’s on Third at 9:30pm! Bring some friends\, grab a drink\, and sing some songs. Thursdays at Who’s are fun you don’t want to miss!
URL:https://www.whosonthird.com/event/karaoke-w-dj-dougie-3/
CATEGORIES:Karaoke
ATTACH;FMTTYPE=image/jpeg:https://www.whosonthird.com/wp-content/uploads/2023/08/IMG-7084-1-e1690870824968.jpg
END:VEVENT
BEGIN:VEVENT
DTSTART;TZID=UTC:20230810T213000
DTEND;TZID=UTC:20230811T000000
DTSTAMP:20260420T151113
CREATED:20230801T062459Z
LAST-MODIFIED:20230801T194920Z
UID:94-1691703000-1691712000@www.whosonthird.com
SUMMARY:Karaoke w/ DJ Dougie
DESCRIPTION:DJ Dougie kicks off karaoke every Thursday at Who’s on Third at 9:30pm! Bring some friends\, grab a drink\, and sing some songs. Thursdays at Who’s are fun you don’t want to miss!
URL:https://www.whosonthird.com/event/karaoke-w-dj-dougie-2/
CATEGORIES:Karaoke
ATTACH;FMTTYPE=image/jpeg:https://www.whosonthird.com/wp-content/uploads/2023/08/IMG-7084-1-e1690870824968.jpg
END:VEVENT
BEGIN:VEVENT
DTSTART;TZID=UTC:20230803T213000
DTEND;TZID=UTC:20230804T000000
DTSTAMP:20260420T151113
CREATED:20230801T054654Z
LAST-MODIFIED:20230801T194926Z
UID:65-1691098200-1691107200@www.whosonthird.com
SUMMARY:Karaoke w/ DJ Dougie
DESCRIPTION:DJ Dougie kicks off karaoke every Thursday at Who’s on Third at 9:30pm! Bring some friends\, grab a drink\, and sing some songs. Thursdays at Who’s are fun you don’t want to miss!
URL:https://www.whosonthird.com/event/karaoke-w-dj-dougie/
CATEGORIES:Karaoke
ATTACH;FMTTYPE=image/jpeg:https://www.whosonthird.com/wp-content/uploads/2023/08/IMG-7084-1-e1690870824968.jpg
END:VEVENT
END:VCALENDAR